Workbook

Sheet AIS 150kV
A1: Υπολογισμός Εύλογου Κόστους AIS 150kV
B2: ΣΣΧ :
B3: ΟΝΟΜΑΣΙΑ Υ/Σ :
B4: ΣΥΝΟΛΙΚΟ ΕΜΒΑΔΟΝ ΓΗΠΕΔΟΥ ( m2) : | E4: αφορά εμβαδόν ιδιοκτησίας
B5: ΕΜΒΑΔΟΝ ΠΕΡΙΦΡΑΞΗΣ (m2) : | E5: αφορά εμβαδόν αναπτυξης Υ/Σ
B6: ΠΕΡΙΜΕΤΡΟΣ ΠΕΡΙΦΡΑΞΗΣ (m) :
B8: Περιγραφή Αντικειμένου | C8: Ποσότητα | D8: Μοναδιαίο Εύλογο Κόστος | E8: Μοναδιαίο Κόστος Χρήστη | F8: Εγκεκριμένο Συνολικό Κόστος | G8: Α/Α Παραστατικού | H8: Ανάλυση Αντικειμένου Παρασταστικού | I8: Κατασκευαστής / Προμηθευτής
B9: Α . Πύλες Υ/Σ
A10: Α.1. | B10: Πλήρης πύλη AIS 170 kV σύνδεσης με εναέρια Γραμμή Μεταφοράς 150 kV | D10: 380000 | F10: =MIN(D10,E10)*C10 -> 0
A11: Α.2. | B11: Πλήρης πύλη AIS 170 kV σύνδεσης με εναέρια Γραμμή Μεταφοράς 150 kV διπλού ζυγού | D11: 475000 | F11: =MIN(D11,E11)*C11 -> 0
A12: Α.3. | B12: Απλή πύλη AIS 170 kV σύνδεσης με εναέρια Γραμμή Μεταφοράς 150 kV | D12: 100000 | F12: =MIN(D12,E12)*C12 -> 0
A13: Α.4. | B13: Πλήρης πύλη AIS 170 kV σύνδεσης με καλωδιακή Γραμμή Μεταφοράς 150 kV | D13: 400000 | F13: =MIN(D13,E13)*C13 -> 0
A14: Α.5. | B14: Απλή πύλη AIS 170 kV σύνδεσης με καλωδιακή Γραμμή Μεταφοράς 150 kV | D14: 100000 | F14: =MIN(D14,E14)*C14 -> 0
A15: Α.6. | B15: Πύλη AIS 170 kV σύνδεσης με Μ/Σ ισχύος 150 kV/ΜΤ προς εξυπηρέτηση Χρήστη | D15: 380000 | F15: =MIN(D15,E15)*C15 -> 0
A16: Α.7. | B16: Πύλη AIS 170kV συνεπτυγμένου τύπου αέρος | D16: 420000 | F16: =MIN(D16,E16)*C16 -> 0
A17: Α.8. | B17: Πύλη AIS 170kV συνεπτυγμένου τύπου υβριδική | D17: 480000 | F17: =MIN(D17,E17)*C17 -> 0
A18: Α.9. | B18: Πύλη AIS 170 kV σύνδεσης αυτεπαγωγής 150 kV σε Zυγούς | D18: 320000 | F18: =MIN(D18,E18)*C18 -> 0
A19: Α.10. | B19: Πύλη AIS 170 kV διασύνδεσης δύο Ζυγών | D19: 200000 | F19: =MIN(D19,E19)*C19 -> 0
A20: Α.11. | B20: Πύλη AIS 170 kV Tομής Zυγών (με Α/Δ) | D20: 170000 | F20: =MIN(D20,E20)*C20 -> 0
A21: Α.12. | B21: Πύλη AIS 170 kV Tομής Zυγών (χωρίς Α/Δ) | D21: 35000 | F21: =MIN(D21,E21)*C21 -> 0
E22: ΣΥΝΟΛΟ | F22: =SUM(F9:F20) -> 0
B25: Β. Λοιπός Εξοπλισμός Ισχύος
A26: Β.1. | B26: Ακροκιβώτια υπαιθρίου τύπου υπόγειων καλωδίων 150 kV | D26: 6000 | F26: =C26*MIN(D26,E26) -> 0
A27: Β.2. | B27: Αλεξικέραυνα 150 kV | D27: 5000 | F27: =C27*MIN(D27,E27) -> 0
A28: Β.3. | B28: Σύστημα μετρήσεων ενέργειας (3CTs, 3VTs) | D28: 80000 | F28: =C28*MIN(D28,E28) -> 0
A29: Β.4. | B29: Μετασχηματιστής Τάσης | D29: 13000 | F29: =C29*MIN(D29,E29) -> 0
A30: Β.5. | B30: Κυματοπαγίδες – Πυκνωτές ζεύξης για δίκτυο φερέσυχνων | D30: 20000 | F30: =C30*MIN(D30,E30) -> 0
A31: Β.6. | B31: Τριπολικός χειροκίνητος αποζεύκτης (Α/Ζ) γραμμής με γειωτή | D31: 21000 | F31: =C31*MIN(D31,E31) -> 0
A32: Β.7. | B32: Τριπολικός ηλεκτροκίνητος Α/Ζ Ζυγών 170kV, 1250A | D32: 21000 | F32: =C32*MIN(D32,E32) -> 0
A33: Β.8. | B33: Πηνίο Αντιστάθμισης
A34: Β.8.1 | B34: Πηνίο Αντιστάθμισης 9 MVAr | D34: 390000 | F34: =C34*MIN(D34,E34) -> 0
A35: Β.8.2 | B35: Πηνίο Αντιστάθμισης 30 MVAr | D35: 625000 | F35: =C35*MIN(D35,E35) -> 0
A36: Β.8.3 | B36: Πηνίο Αντιστάθμισης 60 MVAr | D36: 830000 | F36: =C36*MIN(D36,E36) -> 0
A37: Β.8.4 | B37: Πηνίο Αντιστάθμισης 100 MVAr | D37: 1300000 | F37: =C37*MIN(D37,E37) -> 0
E38: ΣΥΝΟΛΟ | F38: =SUM(F26:F37) -> 0
B41: Γ. Ψηφιακό Σύστημα Ελέγχου
A42: Γ.1. | B42: Εγκατάσταση νέου ψηφιακού συστήματος ελέγχου | D42: 130.000 € + 80.000 €/πύλη + 40.000 €/πύλη_ΜΣ
A43: Γ.1.1 | B43: Σταθερό μέρος: Κόστη που αφορούν την προμήθεια, εγκατάσταση και θέση σε λειτουργία του ΨΣΕ (υλικό και λογισμικό) | D43: 130000 | F43: =C43*MIN(D43,E43) -> 0
A44: Γ.1.2 | B44: Μεταβλητό μέρος 1 - Κόστος ανά πύλη (εκτός πύλης Μ/Σ) | D44: 80000 | F44: =C44*MIN(D44,E44) -> 0
A45: Γ.1.3 | B45: Μεταβλητό μέρος 1 - Κόστος ανά πύλη_ΜΣ | D45: 40000 | F45: =C45*MIN(D45,E45) -> 0
A46: Γ.2. | B46: Επέκταση υφιστάμενου ΨΣΕ | D46: 80.000 €/πύλη + 40.000 €/πύλη_ΜΣ
E47: ΣΥΝΟΛΟ | F47: =SUM(F43:F45) -> 0
B50: Δ. Διαμορφώσεις γηπέδου Υ/Σ | C50: Εμβαδόν
A51: Δ.1. | B51: Εμβαδόν έκτασης <5000 m2 | D51: 115.3 | F51: =C51*MIN(D51,E51) -> 0
A52: Δ.2. | B52: Εμβαδόν έκτασης <7000 m2 | D52: 105.6 | F52: =C52*MIN(D52,E52) -> 0
A53: Δ.3. | B53: Εμβαδόν έκτασης <9000 m2 | D53: 99.9 | F53: =C53*MIN(D53,E53) -> 0
A54: Δ.4. | B54: Εμβαδόν έκτασης <11000 m2 | D54: 96.08 | F54: =C54*MIN(D54,E54) -> 0
A55: Δ.5. | B55: Εμβαδόν έκτασης >11000 m2 | D55: 91.18 | F55: =C55*MIN(D55,E55) -> 0
E56: ΣΥΝΟΛΟ | F56: =SUM(F51:F55) -> 0
B59: Ε. Κτηριακά Υ/Σ
A60: Ε.1. | B60: Κτήριο ΑΔΜΗΕ | D60: 360000 | F60: =C60*MIN(D60,E60) -> 0
A61: Ε.2. | B61: Αντλιοστάσιο, δεξαμενή νερού και σύστημα πυρόσβεσης | D61: 135000 | F61: =C61*MIN(D61,E61) -> 0
A62: Ε.3. | B62: Ικρίωμα Πρόσδεσης (Gantry) | D62: 100000 | F62: =C62*MIN(D62,E62) -> 0
E63: ΣΥΝΟΛΟ | F63: =SUM(F60:F61) -> 0
B66: ΣΤ. Μελέτες
A67: ΣΤ.1. | B67: Μελέτες Η/Μ, ΕΠΜ και ΨΣΕ | D67: 100000 | F67: =C67*MIN(D67,E67) -> 0
E68: ΣΥΝΟΛΟ | F68: =SUM(F67) -> 0
B71: Η. Γενικό Σύνολο | F71: =F22+F38+F47+F56+F63+F68 -> 0

Sheet GIS 150kV
A1: Υπολογισμός Εύλογου Κόστους GIS 150kV
B2: ΣΣΧ :
B3: ΟΝΟΜΑΣΙΑ Υ/Σ :
B4: ΣΥΝΟΛΙΚΟ ΕΜΒΑΔΟΝ ΓΗΠΕΔΟΥ ( m2) : | E4: αφορά εμβαδόν ιδιοκτησίας
B5: ΕΜΒΑΔΟΝ ΠΕΡΙΦΡΑΞΗΣ (m2) : | E5: αφορά εμβαδόν αναπτυξης Υ/Σ
B6: ΠΕΡΙΜΕΤΡΟΣ ΠΕΡΙΦΡΑΞΗΣ (m) :
B8: Περιγραφή Αντικειμένου | C8: Ποσότητα | D8: Μοναδιαίο Εύλογο Κόστος | E8: Μοναδιαίο Κόστος Χρήστη | F8: Εγκεκριμένο Συνολικό Κόστος | G8: Α/Α Παραστατικού | H8: Ανάλυση Αντικειμένου Παρασταστικού | I8: Κατασκευαστής / Προμηθευτής
B9: Α . Πύλες Υ/Σ
A10: Α.1. | B10: Πύλη GIS 170kV Εναέριας ΓΜ 150 kV Μονού Ζυγού | D10: 325000 | F10: =MIN(D10,E10)*C10 -> 0
A11: Α.2. | B11: Πύλη GIS 170kV Εναέριας ΓΜ 150 kV Διπλού Ζυγού | D11: 350000 | F11: =MIN(D11,E11)*C11 -> 0
A12: Α.3. | B12: Πύλη GIS 170kV Καλωδιακής ΓΜ 150 kV Μονού Ζυγού | D12: 325000 | F12: =MIN(D12,E12)*C12 -> 0
A13: Α.4. | B13: Πύλη GIS 170kV Καλωδιακής ΓΜ 150 kV Διπλού Ζυγού | D13: 350000 | F13: =MIN(D13,E13)*C13 -> 0
A14: Α.5. | B14: Πύλη GIS 170 kV σύνδεσης αυτεπαγωγής 150 kV στους Ζυγούς Μονού Ζυγού | D14: 375000 | E14: ΄ | F14: =MIN(D14,E14)*C14 -> 0
A15: Α.6. | B15: Πύλη GIS 170 kV Διασύνδεσης Ζυγών | D15: 350000 | F15: =MIN(D15,E15)*C15 -> 0
A16: Α.7. | B16: Πύλη GIS 170kV σύνδεσης με Μ/Σ προς Εξυπηρέτηση Χρήστη | D16: -
A17: Α.8. | B17: Πύλη τομής ζυγών GIS 150 kV με Α/Δ | D17: 310000 | F17: =MIN(D17,E17)*C17 -> 0
A18: Α.9. | B18: Πύλη τομής ζυγών GIS 150 kV χωρίς Α/Δ | D18: 70000 | F18: =MIN(D18,E18)*C18 -> 0
E19: ΣΥΝΟΛΟ | F19: =SUM(F9:F18) -> 0
B22: Β. Λοιπός Εξοπλισμός Ισχύος
A23: Β.1. | B23: Ακροκιβώτια υπαιθρίου τύπου υπόγειων καλωδίων 150 kV | D23: 6.000 €/τμχ | F23: =MIN(D23,E23)*C23 -> 0
A24: Β.2. | B24: Αλεξικέραυνα 150 kV | D24: 5.000 €/τμχ | F24: =MIN(D24,E24)*C24 -> 0
A25: Β.3. | B25: Σύστημα μετρήσεων ενέργειας (3CTs, 3VTs) | D25: 80000 | F25: =MIN(D25,E25)*C25 -> 0
A26: Β.4. | B26: Μετασχηματιστής Τάσης | D26: 13000 | F26: =MIN(D26,E26)*C26 -> 0
A27: Β.5. | B27: Κυματοπαγίδες – Πυκνωτές ζεύξης για δίκτυο φερέσυχνων | D27: 20.000 €/τμχ | F27: =MIN(D27,E27)*C27 -> 0
A28: Β.5. | B28: Πηνίο Αντιστάθμισης
A29: Β.6.1 | B29: Πηνίο Αντιστάθμισης 9 MVAr | D29: 390000 | F29: =MIN(D29,E29)*C29 -> 0
A30: Β.6.2 | B30: Πηνίο Αντιστάθμισης 30 MVAr | D30: 625000 | F30: =MIN(D30,E30)*C30 -> 0
A31: Β.6.3 | B31: Πηνίο Αντιστάθμισης 60 MVAr | D31: 830000 | F31: =MIN(D31,E31)*C31 -> 0
A32: Β.6.4 | B32: Πηνίο Αντιστάθμισης 100 MVAr | D32: 1300000 | F32: =MIN(D32,E32)*C32 -> 0
E33: ΣΥΝΟΛΟ | F33: =SUM(F23:F32) -> 0
B36: Γ. Ψηφιακό Σύστημα Ελέγχου
A37: Γ.1. | B37: Εγκατάσταση νέου ψηφιακού συστήματος ελέγχου | D37: 130.000 € + 90.000 €/Πύλη + 45.000 €/Πύλη_ΜΣ
A38: Γ.1.1 | B38: Σταθερό μέρος: Κόστη που αφορούν την προμήθεια, εγκατάσταση και θέση σε λειτουργία του ΨΣΕ (υλικό και λογισμικό) | D38: 130000 | F38: =MIN(D38,E38)*C38 -> 0
A39: Γ.1.1 | B39: Μεταβλητό μέρος 1 - Κόστος ανά πύλη (εκτός πύλης Μ/Σ) | D39: 90000 | F39: =MIN(D39,E39)*C39 -> 0
A40: Γ.1.2 | B40: Μεταβλητό μέρος 1 - Κόστος ανά πύλη_ΜΣ | D40: 45000 | F40: =MIN(D40,E40)*C40 -> 0
A41: Γ.2 | B41: Επέκταση υφιστάμενου ΨΣΕ | D41: 90.000 €/πύλη + 45.000 €/πύλη_ΜΣ
E42: ΣΥΝΟΛΟ | F42: =SUM(F38:F40) -> 0
B45: Δ. Διαμορφώσεις γηπέδου Υ/Σ | C45: Εμβαδόν
A46: Δ.1. | B46: Εμβαδόν έκτασης <5000 m2 | D46: 121,6 €/m2 | F46: =MIN(D46,E46)*C46 -> 0
A47: Δ.2. | B47: Εμβαδόν έκτασης <7000 m2 | D47: 109,7 €/m2 | F47: =MIN(D47,E47)*C47 -> 0
A48: Δ.3. | B48: Εμβαδόν έκτασης <9000 m2 | D48: 102,7 €/m2 | F48: =MIN(D48,E48)*C48 -> 0
A49: Δ.4. | B49: Εμβαδόν έκτασης <11000 m2 | D49: 98,0 €/m2 | F49: =MIN(D49,E49)*C49 -> 0
A50: Δ.5. | B50: Εμβαδόν έκτασης >11000 m2 | D50: 92,2 €/m2 | F50: =MIN(D50,E50)*C50 -> 0
E51: ΣΥΝΟΛΟ | F51: =SUM(F46:F50) -> 0
B54: Ε. Κτηριακά Υ/Σ
A55: Ε.1. | B55: Κτήριο ΑΔΜΗΕ | D55: 435000 | F55: =MIN(D55,E155)*C55 -> 0
A56: Ε.2. | B56: Κτήριο GIS με υπόγεο | D56: 1130000 | F56: =MIN(D56,E156)*C56 -> 0
A57: Ε.3. | B57: Αντλιοστάσιο, δεξαμενή νερού και σύστημα πυρόσβεσης | D57: 135000 | F57: =MIN(D57,E157)*C57 -> 0
A58: Ε.4. | B58: Ικρίωμα Πρόσδεσης (Gantry) | D58: 100000 | F58: =MIN(D58,E158)*C58 -> 0
E59: ΣΥΝΟΛΟ | F59: =SUM(F55:F56) -> 0
B62: ΣΤ. Μελέτες
A63: ΣΤ.1. | B63: Μελέτες Η/Μ, ΕΠΜ και ΨΣΕ | D63: 200000 | F63: =MIN(D63,E63)*C63 -> 0
E64: ΣΥΝΟΛΟ | F64: =SUM(F63) -> 0
B67: Η. Γενικό Σύνολο | F67: =F19+F33+F42+F51+F59+F64 -> 0

Sheet AIS 400kV
A1: Υπολογισμός Εύλογου Κόστους AIS 400kV
B2: ΣΣΧ :
B3: ΟΝΟΜΑΣΙΑ KYT :
B4: ΣΥΝΟΛΙΚΟ ΕΜΒΑΔΟΝ ΓΗΠΕΔΟΥ ( m2) :
B5: ΕΜΒΑΔΟΝ ΠΕΡΙΦΡΑΞΗΣ (m2) :
B6: ΠΕΡΙΜΕΤΡΟΣ ΠΕΡΙΦΡΑΞΗΣ (m) :
B8: Περιγραφή Αντικειμένου | C8: Ποσότητα | D8: Μοναδιαίο Εύλογο Κόστος | E8: Μοναδιαίο Κόστος Χρήστη | F8: Εγκεκριμένο Συνολικό Κόστος | G8: Α/Α Παραστατικού | H8: Ανάλυση Αντικειμένου Παρασταστικού | I8: Κατασκευαστής / Προμηθευτής
B9: Α . Πύλες Υ/Σ
A10: Α.1. | B10: Πύλη AIS 400 kV σύνδεσης με εναέρια Γραμμή Μεταφοράς 400 kV | D10: 1100000 | F10: =MIN(D10,E10)*C10 -> 0
A11: Α.2. | B11: Πύλη AIS 400 kV σύνδεσης με καλωδιακή Γραμμή Μεταφοράς 400 kV | D11: 1100000 | F11: =MIN(D11,E11)*C11 -> 0
A12: Α.3. | B12: Πύλη AIS 400 kV διασύνδεσης ζυγών ΚΥΤ με διπλούς ζυγούς 400kV | D12: 1000000 | F12: =MIN(D12,E12)*C12 -> 0
A13: Α.4. | B13: Πύλη σύνδεσης με Μ/Σ Χρήστη 400kV/MT | D13: 1100000 | F13: =MIN(D13,E13)*C13 -> 0
E14: ΣΥΝΟΛΟ | F14: =SUM(F9:F13) -> 0
B17: Β. Λοιπός Εξοπλισμός Ισχύος
A18: Β.1. | B18: Ακροκιβώτια υπαιθρίου τύπου υπόγειων καλωδίων 400 kV | D18: 35.000 €/τμχ | F18: =MIN(D18,E18)*C18 -> 0
A19: Β.2. | B19: Αλεξικέραυνα 400 kV | D19: 10.000 €/τμχ | F19: =MIN(D19,E19)*C19 -> 0
A20: Β.3. | B20: Σύστημα μετρήσεων ενέργειας (3CTs, 3VTs) | D20: 150000 | F20: =MIN(D20,E20)*C20 -> 0
A21: Β.4. | B21: Μετασχηματιστής Τάσης | D21: 35000 | F21: =MIN(D21,E21)*C21 -> 0
A22: Β.5. | B22: Κυματοπαγίδες – Πυκνωτές ζεύξης για δίκτυο φερέσυχνων | D22: 50.000 €/τμχ | F22: =MIN(D22,E22)*C22 -> 0
A23: Β.6. | B23: Μικτή διάταξη ζυγών (mixtes décalées) | D23: 700000 | F23: =MIN(D23,E23)*C23 -> 0
E24: ΣΥΝΟΛΟ | F24: =SUM(F18:F23) -> 0
B27: Γ. Ψηφιακό Σύστημα Ελέγχου
A28: Γ.1. | B28: Εγκατάσταση νέου ψηφιακού συστήματος ελέγχου | D28: 130.000 € + 80.000 €/πύλη + 40.000 €/πύλη_Μ/Σ
A29: Γ.1.1 | B29: Σταθερό μέρος: Κόστη που αφορούν την προμήθεια, εγκατάσταση και θέση σε λειτουργία του ΨΣΕ (υλικό και λογισμικό) | D29: 130000 | F29: =MIN(D29,E29)*C29 -> 0
A30: Γ.1.2 | B30: Μεταβλητό μέρος 1 - Κόστος ανά πύλη (εκτός πύλης Μ/Σ) | D30: 80000 | F30: =MIN(D30,E30)*C30 -> 0
A31: Γ.1.3 | B31: Μεταβλητό μέρος 1 - Κόστος ανά πύλη_Μ/Σ | D31: 40000 | F31: =MIN(D31,E31)*C31 -> 0
A32: Γ.2. | B32: Επέκταση υφιστάμενου ΨΣΕ | D32: 80.000 €/πύλη + 40.000 €/πύλη_Μ/Σ
E33: ΣΥΝΟΛΟ | F33: =SUM(F29:F31) -> 0
B36: Δ. Διαμορφώσεις γηπέδου Υ/Σ | C36: Εμβαδόν
A37: Δ.1. | B37: Εμβαδόν έκτασης <20000 m2 | D37: 81,7 €/m2 | F37: =MIN(D37,E37)*C37 -> 0
A38: Δ.2. | B38: Εμβαδόν έκτασης <25000 m2 | D38: 79,0 €/m2 | F38: =MIN(D38,E38)*C38 -> 0
A39: Δ.3. | B39: Εμβαδόν έκτασης <30000 m2 | D39: 77,1 €/m2 | F39: =MIN(D39,E39)*C39 -> 0
A40: Δ.4. | B40: Εμβαδόν έκτασης <35000 m2 | D40: 75,6 €/m2 | F40: =MIN(D40,E40)*C40 -> 0
A41: Δ.5. | B41: Εμβαδόν έκτασης >35000 m2 | D41: 73,6 €/m2 | F41: =MIN(D41,E41)*C41 -> 0
E42: ΣΥΝΟΛΟ | F42: =SUM(F37:F41) -> 0
B45: Ε. Κτηριακά Υ/Σ
A46: Ε.1. | B46: Κτήριο ΑΔΜΗΕ | D46: 455000 | F46: =MIN(D46,E46)*C46 -> 0
A47: Ε.2. | B47: Αντλιοστάσιο, δεξαμενή νερού και σύστημα πυρόσβεσης | D47: 135000 | F47: =MIN(D47,E47)*C47 -> 0
A48: Ε.3. | B48: Ικρίωμα Πρόσδεσης (Gantry) | D48: 200000 | F48: =MIN(D48,E48)*C48 -> 0
E49: ΣΥΝΟΛΟ | F49: =SUM(F46:F47) -> 0
B52: ΣΤ. Μελέτες
A53: ΣΤ.1. | B53: Μελέτες Η/Μ, ΕΠΜ και ΨΣΕ | D53: 150000 | F53: =MIN(D53,E53)*C53 -> 0
E54: ΣΥΝΟΛΟ | F54: =SUM(F53) -> 0
B57: Η. Γενικό Σύνολο | F57: =F14+F24+F33+F42+F49+F54 -> 0

Sheet GIS 400kV
A1: Υπολογισμός Εύλογου Κόστους GIS 400kV
B2: ΣΣΧ :
B3: ΟΝΟΜΑΣΙΑ KYT :
B4: ΣΥΝΟΛΙΚΟ ΕΜΒΑΔΟΝ ΓΗΠΕΔΟΥ ( m2) :
B5: ΕΜΒΑΔΟΝ ΠΕΡΙΦΡΑΞΗΣ (m2) :
B6: ΠΕΡΙΜΕΤΡΟΣ ΠΕΡΙΦΡΑΞΗΣ (m) :
B8: Περιγραφή Αντικειμένου | C8: Ποσότητα | D8: Μοναδιαίο Εύλογο Κόστος | E8: Μοναδιαίο Κόστος Χρήστη | F8: Εγκεκριμένο Συνολικό Κόστος | G8: Α/Α Παραστατικού | H8: Ανάλυση Αντικειμένου Παρασταστικού | I8: Κατασκευαστής / Προμηθευτής
B9: Α . Πύλες Υ/Σ
A10: Α.1. | B10: Πύλη GIS 400 kV σύνδεσης με εναέρια Γραμμής Μεταφοράς 400 kV | D10: 1120000 | F10: =MIN(D10,E10)*C10 -> 0
A11: Α.2. | B11: Πύλη GIS 400 kV σύνδεσης με καλωδιακή Γραμμή Μεταφοράς 400 kV | D11: 1220000 | F11: =MIN(D11,E11)*C11 -> 0
A12: Α.3. | B12: Πύλη GIS 400 kV σύνδεσης με αυτεπαγωγή 400 kV προσαρτημένη σε πύλη καλωδιακής ΓΜ 400kV | D12: 1100000 | F12: =MIN(D12,E12)*C12 -> 0
A13: Α.4. | B13: Πύλη GIS 400 kV ΑΜ/Σ 400/150/30 kV | D13: 1100000 | F13: =MIN(D13,E13)*C13 -> 0
A14: Α.5. | B14: Πύλη Διασύνδεσης Ζυγών GIS 400 kV | D14: 1000000 | F14: =MIN(D14,E14)*C14 -> 0
A15: Α.6. | B15: Πύλη σύνδεσης με αυτεπαγωγή αντιστάθμισης | D15: 1120000 | F15: =MIN(D15,E15)*C15 -> 0
A16: Α.7. | B16: Πύλη Τομής, Ταχυγειωτών και Μ/Σ Τάσεως Ζυγού Με Α/Δ (ανά ζυγό) | D16: 670000 | F16: =MIN(D16,E16)*C16 -> 0
A17: Α.8. | B17: Πύλη Τομής, Ταχυγειωτών και Μ/Σ Τάσεως Ζυγού Χωρίς Α/Δ (ανά ζυγό) | D17: 500000 | F17: =MIN(D17,E17)*C17 -> 0
A18: Α.9. | B18: Πύλη σύνδεσης με Μ/Σ Χρήστη 400kV/MT | D18: -
E19: ΣΥΝΟΛΟ | F19: =SUM(F9:F17) -> 0
B22: Β. Λοιπός Εξοπλισμός Ισχύος
A23: Β.1. | B23: Ακροκιβώτια SF6 - Αέρα | D23: 35.000 €/τμχ | F23: =MIN(D23,E23)*C23 -> 0
A24: Β.2. | B24: Αλεξικέραυνα 400 kV | D24: 10.000 €/τμχ | F24: =MIN(D24,E24)*C24 -> 0
A25: Β.3. | B25: Μετασχηματιστής Τάσης | D25: 35000 | F25: =MIN(D25,E25)*C25 -> 0
A26: Β.4. | B26: Σύστημα μετρήσεων ενέργειας (3CTs, 3VTs) | D26: 150000 | F26: =MIN(D26,E26)*C26 -> 0
A27: Β.5. | B27: Κυματοπαγίδες – Πυκνωτές ζεύξης για δίκτυο φερέσυχνων | D27: 50.000 €/τμχ | F27: =MIN(D27,E27)*C27 -> 0
E28: ΣΥΝΟΛΟ | F28: =SUM(F23:F27) -> 0
B31: Γ. Ψηφιακό Σύστημα Ελέγχου
A32: Γ.1. | B32: Εγκατάσταση νέου ψηφιακού συστήματος ελέγχου | D32: 130.000 € + 110.000 €/Πύλη + 55.000 €/Πύλη_Μ/Σ
A33: Γ.1.1 | B33: Σταθερό μέρος: Κόστη που αφορούν την προμήθεια, εγκατάσταση και θέση σε λειτουργία του ΨΣΕ (υλικό και λογισμικό) | D33: 130000 | F33: =MIN(D33,E33)*C33 -> 0
A34: Γ.1.2 | B34: Μεταβλητό μέρος 1 - Κόστος ανά πύλη (εκτός πύλης Μ/Σ) | D34: 110000 | F34: =MIN(D34,E34)*C34 -> 0
A35: Γ.1.3 | B35: Μεταβλητό μέρος 1 - Κόστος ανά πύλη_Μ/Σ | D35: 55000 | F35: =MIN(D35,E35)*C35 -> 0
A36: Γ.2 | B36: Επέκταση υφιστάμενου ΨΣΕ | D36: 100.000 €/πύλη + 55.000 €/πύλη_Μ/Σ
E37: ΣΥΝΟΛΟ | F37: =SUM(F33:F35) -> 0
B40: Δ. Διαμορφώσεις γηπέδου Υ/Σ | C40: Εμβαδόν
A41: Δ.1. | B41: Εμβαδόν έκτασης <10000 m2 | D41: 99,0 €/m2 | F41: =MIN(D41,E41)*C41 -> 0
A42: Δ.2. | B42: Εμβαδόν έκτασης <13000 m2 | D42: 93,1 €/m2 | F42: =MIN(D42,E42)*C42 -> 0
A43: Δ.3. | B43: Εμβαδόν έκτασης <16000 m2 | D43: 89,2 €/m2 | F43: =MIN(D43,E43)*C43 -> 0
A44: Δ.4. | B44: Εμβαδόν έκτασης <19000 m2 | D44: 86,5 €/m2 | F44: =MIN(D44,E44)*C44 -> 0
A45: Δ.5. | B45: Εμβαδόν έκτασης >19000 m2 | D45: 82,8 €/m2 | F45: =MIN(D45,E45)*C45 -> 0
E46: ΣΥΝΟΛΟ | F46: =SUM(F41:F45) -> 0
B49: Ε. Κτηριακά Υ/Σ
A50: Ε.1. | B50: Κτήριο ΑΔΜΗΕ | D50: 635000 | F50: =MIN(D50,E50)*C50 -> 0
A51: Ε.2. | B51: Κτήριο GIS με υπόγεο | D51: 1400000 | F51: =MIN(D51,E51)*C51 -> 0
A52: Ε.3. | B52: Αντλιοστάσιο, δεξαμενή νερού και σύστημα πυρόσβεσης | D52: 135000 | F52: =MIN(D52,E52)*C52 -> 0
A53: E.4. | B53: Ικρίωμα Πρόσδεσης (Gantry) | D53: 200000 | F53: =MIN(D53,E53)*C53 -> 0
A54: Ε.5. | B54: GIL | D54: 270000 | F54: =MIN(D54,E54)*C54 -> 0
E55: ΣΥΝΟΛΟ | F55: =SUM(F50:F51) -> 0
B58: ΣΤ. Μελέτες
A59: ΣΤ.1. | B59: Μελέτες Η/Μ, ΕΠΜ και ΨΣΕ | D59: 300000 | F59: =MIN(D59,E59)*C59 -> 0
E60: ΣΥΝΟΛΟ | F60: =SUM(F59) -> 0
B63: Η. Γενικό Σύνολο | F63: =F19+F28+F37+F46+F55+F60 -> 0

Sheet ΕΝΑΕΡΙΕΣ ΓΜ
A1: Υπολογισμός Εύλογου Κόστους Εναέριας Γραμμής Μεταφοράς
B2: ΣΣΧ :
B3: ΟΝΟΜΑΣΙΑ ΓΜ :
B5: ΕΠΙΠΕΔΟ ΤΑΣΗΣ (kV)
B6: ΤΥΠΟΣ ΓΜ
B7: ΜΗΚΟΣ ΓΜ (m)
B8: ΜΗΚΟΣ ΑΓΩΓΟΥ ΦΑΣΗΣ (m)
B9: ΤΥΠΟΣ ΑΓΩΓΟΥ ΦΑΣΗΣ
B10: ΜΗΚΟΣ ΑΓΩΓΟΥ ΠΡΟΣΤΑΣΙΑΣ 1 (m)
B11: ΤΥΠΟΣ ΑΓΩΓΟΥ ΠΡΟΣΤΑΣΙΑΣ 1
B12: ΜΗΚΟΣ ΑΓΩΓΟΥ ΠΡΟΣΤΑΣΙΑΣ 2 (m)
B13: ΤΥΠΟΣ ΑΓΩΓΟΥ ΠΡΟΣΤΑΣΙΑΣ 2
B14: ΑΡΙΘΜΟΣ ΝΕΩΝ ΠΥΡΓΩΝ
... B23: ΣΥΝΙΣΤΑΤΑΙ Η ΣΥΜΠΛΗΡΩΣΗ ΤΩΝ ΠΑΡΑΚΑΤΩ ΑΝΑΛΥΤΙΚΩΝ ΠΙΝΑΚΩΝ ΓΙΑ ΜΙΚΡΟΥ ΜΗΚΟΥΣ ΓΡΑΜΜΩΝ ΜΕΤΑΦΟΡΑΣ ( ΕΩΣ 2000m)
B24: ΣΕΙΡΑ 3 (B) | E24: ΣΕΙΡΑ 4 (2B) | H24: ΣΕΙΡΑ 5 (2B'B') | K24: ΣΕΙΡΑ 6 (B'B') | N24: ΣΕΙΡΑ 7 (B'B'B')
B26: Νέα γραμμή | C26: Αριθμός Πύργων | E26: Νέα γραμμή | F26: Αριθμός Πύργων | H26: Νέα γραμμή | I26: Αριθμός Πύργων | K26: Νέα γραμμή | L26: Αριθμός Πύργων | N26: Νέα γραμμή | O26: Αριθμός Πύργων
B27: S3 | E27: S4 | H27: S15/S5 | K27: S6 | N27: S7
B28: S3+4,5 | E28: S4+4,5 | H28: S15/S5+8 | K28: S6+8 | N28: S7+8
B29: R3 | E29: R4 | H29: G5 | K29: G6 | N29: G7
B30: R3+4,5 | E30: R4+4,5 | H30: G5+8 | K30: G6+8 | N30: G7+8
B31: T3 | E31: T4 | H31: R5 | K31: R6 | N31: R7
B32: T3+4,5 | E32: T4+4,5 | H32: R5+8 | K32: R6+8 | N32: R7+8
B33: Z3 | E33: Z4 | H33: R5+18 | K33: R6+18 | N33: R7+18
B34: Z3+4,5 | E34: Z4+4,5 | H34: T5 | K34: T6 | N34: T7
H35: T5+8 | K35: T6+8 | N35: T7+8
H36: T5+18 | K36: T6+18 | N36: T7+18
H37: Z5 | K37: Z6 | N37: Z7
H38: Z5+8 | K38: Z6+8 | N38: Z7+8
B40: Παλαιά Γραμμή | C40: Αριθμός Πύργων | E40: Παλαιά Γραμμή | F40: Αριθμός Πύργων | H40: Παλαιά Γραμμή | I40: Αριθμός Πύργων | K40: Παλαιά Γραμμή | L40: Αριθμός Πύργων | N40: Παλαιά Γραμμή | O40: Αριθμός Πύργων
B41: S3 | E41: S4 | H41: S15/S5 | K41: S6 | N41: S7
B42: S3+4,5 | E42: S4+4,5 | H42: S15/S5+8 | K42: S6+8 | N42: S7+8
B43: R3 | E43: R4 | H43: G5 | K43: G6 | N43: G7
B44: R3+4,5 | E44: R4+4,5 | H44: G5+8 | K44: G6+8 | N44: G7+8
B45: T3 | E45: T4 | H45: R5 | K45: R6 | N45: R7
B46: T3+4,5 | E46: T4+4,5 | H46: R5+8 | K46: R6+8 | N46: R7+8
B47: Z3 | E47: Z4 | H47: R5+18 | K47: R6+18 | N47: R7+18
B48: Z3+4,5 | E48: Z4+4,5 | H48: T5 | K48: T6 | N48: T7
H49: T5+8 | K49: T6+8 | N49: T7+8
H50: T5+18 | K50: T6+18 | N50: T7+18
H51: Z5 | K51: Z6 | N51: Z7
H52: Z5+8 | K52: Z6+8 | N52: Z7+8
C54: Εύλογο Κόστος* | D54: Κόστος Χρήστη | F54: Εγκεκριμένο Κόστος* | H54: Α/Α Παραστατικού | I54: Ανάλυση Αντικειμένου Παρασταστικού
B57: * θα συμπληρώνεται από τον ΑΔΜΗΕ μετά την υποβολή

Sheet ΚΑΛΩΔΙΑΚΕΣ ΓΜ
A1: Υπολογισμός Εύλογου Κόστους Καλωδιακής Γραμμής Μεταφοράς
B2: ΣΣΧ :
B3: ΟΝΟΜΑΣΙΑ ΓΜ :
B5: ΕΠΙΠΕΔΟ ΤΑΣΗΣ (kV)
B6: ΑΡΙΘΜΟΣ ΚΥΚΛΩΜΑΤΩΝ
B7: ΜΗΚΟΣ ΓΡΑΜΜΗΣ (m)
B8: ΜΗΚΟΣ ΚΑΛΩΔΙΟΥ (m)*
B9: ΚΑΛΩΔΙΟ ΟΠΤΙΚΩΝ ΙΝΩΝ (τύπος)
B10: ΚΑΛΩΔΙΟ ΟΠΤΙΚΩΝ ΙΝΩΝ (m)
B11: ΥΛΙΚΟ ΑΓΩΓΟΥ (Al, Cu)
B12: ΔΙΑΤΟΜΗ ΑΓΩΓΟΥ (mm2)
B13: ΔΙΑΤΑΞΗ
B14: ΜΗΚΟΣ ΔΙΑΤΡΗΣΕΩΝ (m)
... B19: ΜΕΛΕΤΗ ΓΜ (€)
C21: Εύλογο Κόστος* | D21: Κόστος Χρήστη | E21: Εγκεκριμένο Κόστος** | F21: Α/Α Παραστατικού | G21: Ανάλυση Αντικειμένου Παρασταστικού
B24: * συμπληρώνεται μόνο σε περίπτωση μονοπολικού καλωδίου
B25: ** θα συμπληρώνεται από τον ΑΔΜΗΕ μετά την υποβολή

Sheet ΥΠΟΒΡΥΧΙΕΣ ΓΜ
A1: Υπολογισμός Εύλογου Κόστους Υποβρύχιες Γραμμής Μεταφοράς
B2: ΣΣΧ :
B3: ΟΝΟΜΑΣΙΑ ΓΜ :
B5: ΕΠΙΠΕΔΟ ΤΑΣΗΣ (kV)
B6: ΑΡΙΘΜΟΣ ΚΥΚΛΩΜΑΤΩΝ
B7: ΜΗΚΟΣ ΓΡΑΜΜΗΣ (m)
B8: ΜΗΚΟΣ ΑΓΩΓΟΥ (m)*
B9: ΚΑΛΩΔΙΟ ΟΠΤΙΚΩΝ ΙΝΩΝ (τύπος)
B10: ΚΑΛΩΔΙΟ ΟΠΤΙΚΩΝ ΙΝΩΝ (m)
B11: ΥΛΙΚΟ ΑΓΩΓΟΥ (Al, Cu)
B12: ΔΙΑΤΟΜΗ ΑΓΩΓΟΥ (mm2)
B13: ΑΡΙΘΜΟΣ ΔΙΑΣΤΑΥΡΩΣΕΩΝ
B14: ΜΗΚΟΣ ΠΑΡΑΚΤΙΟΥ ΤΜΗΜΑΤΟΣ (m)
... B16: ΠΡΟΣΤΑΣΙΑ JETTING (m)
C19: Εύλογο Κόστος* | D19: Κόστος Χρήστη | E19: Εγκεκριμένο Κόστος** | F19: Α/Α Παραστατικού | G19: Ανάλυση Αντικειμένου Παρασταστικού
B22: * συμπληρώνεται μόνο σε περίπτωση μονοπολικού καλωδίου
B23: **θα συμπληρώνεται από τον ΑΔΜΗΕ μετά την υποβολή

Sheet ΔΕΔΟΜΕΝΑ ΓΜ
B2: 150 | C2: B | D2: Alumoweld_GROSBEAK | E2: SW 150kV | F2: ΝΑΙ | G2: 1 | H2: Al | I2: Trefoil
B3: 400 | C3: 2B | D3: ACSR_GROSBEAK | E3: SW400kV | F3: ΌΧΙ | G3: 2 | H3: Cu | I3: Flat
C4: B'B' | D4: ACSS_GROSBEAK | E4: OPGW Φ11 150kV
C5: 2B'B' | D5: ACCC_GROSBEAK | E5: OPGW Φ13 150kV
C6: B'B'B' | D6: ACSR_CARDINAL
D7: ACCC_CARDINAL

Sheet ΣΥΓΚΕΝΤΡΩΤΙΚΟ ΚΟΣΤΟΣ
A1: Υπολογισμός Συγκεντρωτικού Κόστους Έργων Επέκτασης
B2: ΣΣΧ :
C4: Εγκεκριμένο Συνολικό Κόστος
A5: 1 | B5: AIS 150kV | C5: ='AIS 150kV'!F71 -> 0
A6: 2 | B6: GIS 150kV | C6: ='GIS 150kV'!F67 -> 0
A7: 3 | B7: AIS 400kV | C7: ='AIS 400kV'!F57 -> 0
A8: 4 | B8: GIS 400kV | C8: ='GIS 400kV'!F63 -> 0
A9: 5 | B9: ΕΝΑΕΡΙΕΣ ΓΜ | C9: ='ΕΝΑΕΡΙΕΣ ΓΜ'!C55 -> 0
A10: 6 | B10: ΚΑΛΩΔΙΑΚΕΣ ΓΜ | C10: ='ΚΑΛΩΔΙΑΚΕΣ ΓΜ'!E22 -> 0
A11: 7 | B11: ΥΠΟΒΡΥΧΙΕΣ ΓΜ | C11: ='ΥΠΟΒΡΥΧΙΕΣ ΓΜ'!E20 -> 0
B12: Εγκεκριμένο Συγκεντρωτικό Κόστος (100%) | C12: =SUM(C5:C11) -> 0
B13: Προς Ανάκτηση Συγκεντρωτικό Κόστος (50%) | C13: =C12/2 -> 0
